BEGIN:VCALENDAR
VERSION:2.0
PRODID:-//Mount Holyoke Club of Houston - ECPv6.15.11//NONSGML v1.0//EN
CALSCALE:GREGORIAN
METHOD:PUBLISH
X-WR-CALNAME:Mount Holyoke Club of Houston
X-ORIGINAL-URL:https://new.alumnae.mtholyoke.edu/houston
X-WR-CALDESC:Events for Mount Holyoke Club of Houston
REFRESH-INTERVAL;VALUE=DURATION:PT1H
X-Robots-Tag:noindex
X-PUBLISHED-TTL:PT1H
BEGIN:VTIMEZONE
TZID:UTC
BEGIN:STANDARD
TZOFFSETFROM:+0000
TZOFFSETTO:+0000
TZNAME:UTC
DTSTART:20160101T000000
END:STANDARD
END:VTIMEZONE
BEGIN:VEVENT
DTSTART;TZID=UTC:20200111T100000
DTEND;TZID=UTC:20200111T120000
DTSTAMP:20260420T020921
CREATED:20191112T171409Z
LAST-MODIFIED:20191112T171643Z
UID:222-1578736800-1578744000@new.alumnae.mtholyoke.edu
SUMMARY:January: Book Club Meeting
DESCRIPTION:Join the Book Club as they discuss The Silent Patient by Alex Michaelides. \nSummary: \nAlicia Berenson’s life is seemingly perfect. A famous painter married to an in-demand fashion photographer\, she lives in a grand house with big windows overlooking a park in one of London’s most desirable areas. One evening her husband Gabriel returns home late from a fashion shoot\, and Alicia shoots him five times in the face\, and then never speaks another word. \nAlicia’s refusal to talk\, or give any kind of explanation\, turns a domestic tragedy into something far grander\, a mystery that captures the public imagination and casts Alicia into notoriety. The price of her art skyrockets\, and she\, the silent patient\, is hidden away from the tabloids and spotlight at the Grove\, a secure forensic unit in North London. \nTheo Faber is a criminal psychotherapist who has waited a long time for the opportunity to work with Alicia. His determination to get her to talk and unravel the mystery of why she shot her husband takes him down a twisting path into his own motivations—a search for the truth that threatens to consume him…. \nLocation & Host:\nBecky Hunter ’63\nBellaire TX 77401 \nTime: 10:00 AM \nRSVP to Becky at beckyhunter@att.net
URL:https://new.alumnae.mtholyoke.edu/houston/event/january-book-club-meeting-2/
CATEGORIES:Book Club
ATTACH;FMTTYPE=image/png:https://new.alumnae.mtholyoke.edu/houston/files/2019/11/MHC-BOOK-CLUB.png
ORGANIZER;CN="Becky Hunter '63":MAILTO:BeckyHunter@att.net
END:VEVENT
BEGIN:VEVENT
DTSTART;TZID=UTC:20190202T100000
DTEND;TZID=UTC:20190202T110000
DTSTAMP:20260420T020921
CREATED:20181019T171411Z
LAST-MODIFIED:20190115T162545Z
UID:206-1549101600-1549105200@new.alumnae.mtholyoke.edu
SUMMARY:RESCHEDULED: Book Club Meeting
DESCRIPTION:Join the Book Club as they discuss Silkworm by Robert Galbraith. \nRobert Galbraith’s Cormoran Strike series is classic contemporary crime fiction from a master story-teller\, rich in plot\, characterization and detail. Galbraith’s debut into crime fiction garnered acclaim amongst critics and crime fans alike.  \nRobert Galbraith is a pseudonym of J.K. Rowling\, bestselling author of the Harry Potter series and The Casual Vacancy\, a novel for adults. After Harry Potter\, the author chose crime fiction for her next books\, a genre she has always loved as a reader. She wanted to write a contemporary whodunit\, with a credible back story.  \nJ.K. Rowling’s original intention for writing as Robert Galbraith was for the books to be judged on their own merit\, and to establish Galbraith as a well-regarded name in crime in its own right.  \nNow Robert Galbraith’s true identity is widely known\, J.K. Rowling continues to write the crime series under the Galbraith pseudonym to keep the distinction from her other writing and so people will know what to expect from a Cormoran Strike novel. \nLocation & Host:\nCatherine McDonald\, 98′\n825 Bayland Avenue\nHouston\, TX 77008 \nRSVP to Catherine McDonald ‘98 at catmc007 @ gmail.com 
URL:https://new.alumnae.mtholyoke.edu/houston/event/january-book-club-meeting/
CATEGORIES:Book Club
ORGANIZER;CN="Catherine McDonald '98":MAILTO:catmc007@gmail.com
END:VEVENT
BEGIN:VEVENT
DTSTART;TZID=UTC:20181114T190000
DTEND;TZID=UTC:20181114T200000
DTSTAMP:20260420T020921
CREATED:20181019T170725Z
LAST-MODIFIED:20181106T201433Z
UID:203-1542222000-1542225600@new.alumnae.mtholyoke.edu
SUMMARY:November: Book Club Meeting
DESCRIPTION:Join the Book Club as they discuss Clock Dance by Anne Tyler. \n“A psychologically astute study of an intelligent\, curious woman . . . A triumph.” —Boston Globe \n“A gorgeous gem of a novel about family and second chances.” —Bustle \n“What’s so amazing about Tyler’s novels is the way she makes ordinary people and ordinary things so fascinating . . . In Tyler’s hands\, life’s mundane activities feel vital . . . Revelatory . . . Unwrapping the story is a delight.” —Chicago Tribune \nRSVP directly to Audrey McLean ’57\, audreymacl @ aol.com\, who is hosting the next Book Club meeting at her house in Bunker Hill (Houston\, TX 77024). Address provided on RSVP. 
URL:https://new.alumnae.mtholyoke.edu/houston/event/november-book-club-meeting/
CATEGORIES:Book Club
ORGANIZER;CN="Audrey McLean '57":MAILTO:audreymacl@aol.com
END:VEVENT
BEGIN:VEVENT
DTSTART;TZID=UTC:20181016T190000
DTEND;TZID=UTC:20181016T200000
DTSTAMP:20260420T020921
CREATED:20181001T163023Z
LAST-MODIFIED:20181001T163023Z
UID:199-1539716400-1539720000@new.alumnae.mtholyoke.edu
SUMMARY:October: Book Club Meeting
DESCRIPTION:Join the Book Club as they discuss The Rent Collector by Camron Steve Wright. \n“Survival for Ki Lim and Sang Ly is a daily battle at Stung Meanchey\, the largest municipal waste dump in all of Cambodia. They make their living scavenging recyclables from the trash. Life would be hard enough without the worry for their chronically ill child\, Nisay\, and the added expense of medicines that are not really working. Just when things seem most bleak\, Sang Ly learns a secret about the hated\, ill-tempered woman\, the “the rent collector”-she can read! Reluctantly she agrees to teach Sang Ly and does so with the same harshness she applied to her collection duties until they both learn how literacy has the power to instill hope and transcend circumstance. \nBased on a true story\, set in the abject poverty of Cambodia against the backdrop of political oppression and the atrocities of the Khmer Rouge.” \nRSVP directly to Catherine McDonald ‘98\, catmc007@gmail.com\, who is hosting the next Book Club meeting at her house at 1916 Albans Rd.\, 77005.  \n 
URL:https://new.alumnae.mtholyoke.edu/houston/event/october-book-club-meeting/
CATEGORIES:Book Club
ORGANIZER;CN="Catherine McDonald '98":MAILTO:catmc007@gmail.com
END:VEVENT
BEGIN:VEVENT
DTSTART;TZID=UTC:20180508T190000
DTEND;TZID=UTC:20180508T200000
DTSTAMP:20260420T020921
CREATED:20180402T145226Z
LAST-MODIFIED:20180416T223825Z
UID:195-1525806000-1525809600@new.alumnae.mtholyoke.edu
SUMMARY:Rescheduled: Book Group Meeting
DESCRIPTION:If you enjoy reading and talking together about books\, please join the Mount Holyoke Club of Houston Book Group to discuss:  The Alice Network by Kate Quinn.\n\n\n \n\n \nAll Houston MHC alumnae are welcome whether or not you have completed the book.  Light refreshment will be available.\n\n \n\nDate and Time: Tuesday\, May 8th at 7pm\nLocation: 259 Tamerlaine\, Houston TX 77024-6136\n\n\n\n\n \nPlease RSVP to Audrey McLean<audreymacl@aol.com> to give us an idea of how many are coming.  We are planning to notify all Houston Alumnae before each meeting but will be glad to add your name to a specific Book group list for reminders if you send a request to Priscilla Huston at pjh@rice.edu.\n \n\n\n\n\nExcerpt from Amazon about The Alice Network: \nNEW YORK TIMES & USA TODAY BESTSELLER \n#1 GLOBE AND MAIL HISTORICAL FICTION BESTSELLER \nOne of NPR’s Best Books of 2017! \nOne of Bookbub’s Biggest Historical Fiction Books of 2017! \nReese Witherspoon Book Club Summer Reading Pick! \nThe 2017 Girly Book Club Book of the Year! \nA Summer Book Pick from Good Housekeeping\, Parade\, Library Journal\, Goodreads\, Liz and Lisa\, and BookBub \nIn an enthralling new historical novel from national bestselling author Kate Quinn\, two women—a female spy recruited to the real-life Alice Network in France during World War I and an unconventional American socialite searching for her cousin in 1947—are brought together in a mesmerizing story of courage and redemption. \n\n \n\n\n\n\n 
URL:https://new.alumnae.mtholyoke.edu/houston/event/april-book-group-meeting/
CATEGORIES:Book Club
END:VEVENT
BEGIN:VEVENT
DTSTART;TZID=UTC:20180315T190000
DTEND;TZID=UTC:20180315T200000
DTSTAMP:20260420T020921
CREATED:20180222T171342Z
LAST-MODIFIED:20180222T172015Z
UID:183-1521140400-1521144000@new.alumnae.mtholyoke.edu
SUMMARY:March: Book Club Meeting
DESCRIPTION:Join the Book Club as they discuss Little Fires Everywhere by Celeste Ng.  \n \n“Delectable and engrossing… A complex and compulsively readable suburban saga that is deeply invested in mothers and daughters…What Ng has written\, in this thoroughly entertaining novel\, is a pointed and persuasive social critique\, teasing out the myriad forms of privilege and predation that stand between so many people and their achievement of the American dream. But there is a heartening optimism\, too. This is a book that believes in the transformative powers of art and genuine kindness — and in the promise of new growth\, even after devastation\, even after everything has turned to ash.” \n—BOSTON GLOBE \nRSVP directly to Becky Hunter ’63 who is hosting the next Book Club meeting at her house at 4606 Willow in Bellaire TX \n 
URL:https://new.alumnae.mtholyoke.edu/houston/event/march-book-club-meeting/
CATEGORIES:Book Club
ORGANIZER;CN="Becky Hunter '63":MAILTO:BeckyHunter@att.net
END:VEVENT
BEGIN:VEVENT
DTSTART;TZID=UTC:20180208T190000
DTEND;TZID=UTC:20180208T200000
DTSTAMP:20260420T020921
CREATED:20171210T181242Z
LAST-MODIFIED:20171210T190705Z
UID:169-1518116400-1518120000@new.alumnae.mtholyoke.edu
SUMMARY:February: Book Club Meeting
DESCRIPTION:Join the Book Club as they discuss a crime story on the waterfront entitled Manhattan Beach by Jennifer Egan who previously wrote A Visit from the Goon Squad that won a Pulitzer.  \n“An Amazon Best Book of October 2017: With Manhattan Beach\, Jennifer Egan—who dazzled readers with her Pulitzer Prize-winning\, A Visit from the Goon Squad—spins a classic historical novel. Classic in the sense that it’s virtually impossible to put down. Classic in its sepia toned portrait of New York: set on the Brooklyn docks during World War II\, when mobsters ruled\, the war loomed\, and a young girl dove her way into becoming the first female diver on the squad. Classic in its quintessentially satisfying characters: crooked gangsters\, disappearing fathers\, gritty sailors and an intrepid young woman equally at home in a 200 pound diving suit and a green silk dress who unites them all. Classic in its revelation of the dangerous\, altruistic and nefarious choices people make to support their family\, their country and themselves. Manhattan Beach is classic in all of its American glory.” — Al Woodworth \nRSVP directly to Catherine McDonald ’98 who is hosting the next Book Club meeting at her house\, 1916 Albans Rd\, Houston TX 77005. \n 
URL:https://new.alumnae.mtholyoke.edu/houston/event/february-book-club-meeting/
CATEGORIES:Book Club
ORGANIZER;CN="Catherine McDonald '98":MAILTO:catmc007@gmail.com
END:VEVENT
BEGIN:VEVENT
DTSTART;TZID=UTC:20171116T190000
DTEND;TZID=UTC:20171116T200000
DTSTAMP:20260420T020921
CREATED:20171002T173149Z
LAST-MODIFIED:20171017T143613Z
UID:88-1510858800-1510862400@new.alumnae.mtholyoke.edu
SUMMARY:November: Book Club Kickoff Meeting
DESCRIPTION:Hosted by Barbara Massey ’53\, 6221 Lake Street (off University)\n \n\nPlease RSVP to Barbara at rpmbhm@att.net.  \nThis year’s Book Club will hold its first meeting and set dates for future meetings and choices for future reading. The first read will be “A Gentleman In Moscow” by Amor Towles.   \n \n‘A Gentleman In Moscow’ Is A Grand Hotel Adventure
URL:https://new.alumnae.mtholyoke.edu/houston/event/november-book-club-kickoff-meeting/
CATEGORIES:Book Club
END:VEVENT
END:VCALENDAR